BEGIN:VCALENDAR
VERSION:2.0
PRODID:icalendar-ruby
CALSCALE:GREGORIAN
METHOD:PUBLISH
BEGIN:VEVENT
DTSTAMP:20260422T172950Z
UID:1-1145860@harrisonvilleunited.tithelysetup5.com
DTSTART:20261011T140000Z
DTEND:20261011T150000Z
CLASS:PUBLIC
CREATED:20260422T120242
DESCRIPTION:Join us at 9am for Connect Worship! \n 
LAST-MODIFIED:20260422T120242
LOCATION:Harrisonville United Methodist Church
SUMMARY:Sunday Worship
URL;VALUE=URI:https://connecthvilleumc.org/events/sunday-worship--1/2026-10
 -11
ATTACH;FILENAME=elissa-garcia-sQUmDRqY8SA-unsplash.jpg;FMTTYPE=image/jpeg:h
 ttps://dq5pwpg1q8ru0.cloudfront.net/2024/10/23/19/18/31/3635a095-f124-425d
 -a680-03a515c0d32f/elissa-garcia-sQUmDRqY8SA-unsplash.jpg
END:VEVENT
END:VCALENDAR
